BEGIN:VCALENDAR
VERSION:2.0
PRODID:-//Squarespace Inc/Squarespace 6//v6//EN
BEGIN:VEVENT
UID:5c4450824d7a9ccfd0c06872@squarespace.com
DTSTAMP:20190120T104301Z
DTSTART:20190406T150000Z
DTEND:20190407T040000Z
SUMMARY:Tournament Announcement Coming Soon!
END:VEVENT
END:VCALENDAR
